BEGIN:VCALENDAR
VERSION:2.0
PRODID:-//pretix//inwole_e.V._pretix//
BEGIN:VEVENT
UID:pretix-werkhauspotsdam-z9avy-0@buchen.inwole.de
DTSTART:20211208T160000Z
DTEND:20211208T200000Z
DESCRIPTION:Tickets: https://buchen.inwole.de/werkhauspotsdam/z9avy/\nEinla
 ss: 08.12.2021 15:45\nVeranstalter: Werkhaus Potsdam
DTSTAMP:20260420T015328Z
LOCATION:Werkhaus Potsdam\, Rudolf-Breitscheid-Straße 164\, 14482 Potsdam
SUMMARY:Weihnachtsgeschenke nähen
END:VEVENT
END:VCALENDAR
