BEGIN:VCALENDAR
VERSION:2.0
PRODID:-//pretix//inwole_e.V._pretix//
BEGIN:VEVENT
UID:pretix-werkhauspotsdam-tyljk-0@buchen.inwole.de
DTSTART:20210616T160000Z
DTEND:20210616T200000Z
DESCRIPTION:Tickets: https://buchen.inwole.de/werkhauspotsdam/tyljk/\nEinla
 ss: 16.06.2021 15:45\nVeranstalter: Werkhaus Potsdam
DTSTAMP:20260420T015528Z
LOCATION:Werkhaus Potsdam\, Rudolf-Breitscheid-Straße 164\, 14482 Potsdam
SUMMARY:Sommerrock nähen
END:VEVENT
END:VCALENDAR
