BEGIN:VCALENDAR
VERSION:2.0
PRODID:-//pretix//inwole_e.V._pretix//
BEGIN:VEVENT
UID:pretix-werkhauspotsdam-tvnwq-38443@buchen.inwole.de
DTSTART:20221127T090000Z
DTEND:20221127T170000Z
DESCRIPTION:Tickets: https://buchen.inwole.de/werkhauspotsdam/tvnwq/38443/\
 nVeranstalter: Werkhaus Potsdam
DTSTAMP:20260422T171646Z
LOCATION:inwole e.V.\, Rudolf-Breitscheid-Straße 164\, 14482 Potsdam\, Hol
 zwerkstatt
SUMMARY:Einfach Schnitzen lernen Wochenend-Kurs
END:VEVENT
END:VCALENDAR
