BEGIN:VCALENDAR
VERSION:2.0
PRODID:-//pretix//inwole_e.V._pretix//
BEGIN:VEVENT
UID:pretix-werkhauspotsdam-tudcx-39695@buchen.inwole.de
DTSTART:20240124T160000Z
DTEND:20240124T190000Z
DESCRIPTION:Tickets: https://buchen.inwole.de/werkhauspotsdam/tudcx/39695/\
 nVeranstalter: Werkhaus Potsdam
DTSTAMP:20260421T155644Z
LOCATION:inwole e.V.\, Rudolf-Breitscheid-Straße 164\, 14482 Potsdam\, Hol
 zwerkstatt
SUMMARY:Drechsel Einfühungskurs
END:VEVENT
END:VCALENDAR
