BEGIN:VCALENDAR
VERSION:2.0
PRODID:-//pretix//inwole_e.V._pretix//
BEGIN:VEVENT
UID:pretix-werkhauspotsdam-tudcx-39694@buchen.inwole.de
DTSTART:20240117T160000Z
DTEND:20240117T190000Z
DESCRIPTION:Tickets: https://buchen.inwole.de/werkhauspotsdam/tudcx/39694/\
 nVeranstalter: Werkhaus Potsdam
DTSTAMP:20260421T155628Z
LOCATION:inwole e.V.\, Rudolf-Breitscheid-Straße 164\, 14482 Potsdam\, Hol
 zwerkstatt
SUMMARY:Drechsel Einfühungskurs
END:VEVENT
END:VCALENDAR
