BEGIN:VCALENDAR
VERSION:2.0
PRODID:-//pretix//inwole_e.V._pretix//
BEGIN:VEVENT
UID:pretix-werkhauspotsdam-tudcx-38669@buchen.inwole.de
DTSTART:20231220T160000Z
DTEND:20231220T190000Z
DESCRIPTION:Tickets: https://buchen.inwole.de/werkhauspotsdam/tudcx/38669/\
 nVeranstalter: Werkhaus Potsdam
DTSTAMP:20260421T193640Z
LOCATION:inwole e.V.\, Rudolf-Breitscheid-Straße 164\, 14482 Potsdam\, Hol
 zwerkstatt
SUMMARY:Drechsel Einfühungskurs
END:VEVENT
END:VCALENDAR
