BEGIN:VCALENDAR
VERSION:2.0
PRODID:-//pretix//inwole_e.V._pretix//
BEGIN:VEVENT
UID:pretix-werkhauspotsdam-tudcx-38652@buchen.inwole.de
DTSTART:20230823T160000Z
DTEND:20230823T190000Z
DESCRIPTION:Tickets: https://buchen.inwole.de/werkhauspotsdam/tudcx/38652/\
 nVeranstalter: Werkhaus Potsdam
DTSTAMP:20260422T004410Z
LOCATION:inwole e.V.\, Rudolf-Breitscheid-Straße 164\, 14482 Potsdam\, Hol
 zwerkstatt
SUMMARY:Drechsel Einfühungskurs
END:VEVENT
END:VCALENDAR
