BEGIN:VCALENDAR
VERSION:2.0
PRODID:-//pretix//inwole_e.V._pretix//
BEGIN:VEVENT
UID:pretix-werkhauspotsdam-tudcx-37533@buchen.inwole.de
DTSTART:20211208T153000Z
DTEND:20211208T183000Z
DESCRIPTION:Tickets: https://buchen.inwole.de/werkhauspotsdam/tudcx/37533/\
 nVeranstalter: Werkhaus Potsdam
DTSTAMP:20260423T113642Z
LOCATION:inwole e.V.\, Rudolf-Breitscheid-Straße 164\, 14482 Potsdam\, Hol
 zwerkstatt
SUMMARY:Drechsel Einfühungskurs
END:VEVENT
END:VCALENDAR
