BEGIN:VCALENDAR
VERSION:2.0
PRODID:-//pretix//inwole_e.V._pretix//
BEGIN:VEVENT
UID:pretix-werkhauspotsdam-tudcx-2-39639@buchen.inwole.de
DTSTART:20240301T150000Z
DTEND:20240301T180000Z
DESCRIPTION:Tickets: https://buchen.inwole.de/werkhauspotsdam/tudcx-2/39639
 /\nVeranstalter: Werkhaus Potsdam
DTSTAMP:20260421T121552Z
LOCATION:inwole e.V.\, Rudolf-Breitscheid-Straße 164\, 14482 Potsdam\, Hol
 zwerkstatt
SUMMARY:Maschinen-Einführungskurs
END:VEVENT
END:VCALENDAR
