BEGIN:VCALENDAR
VERSION:2.0
PRODID:-//pretix//inwole_e.V._pretix//
BEGIN:VEVENT
UID:pretix-werkhauspotsdam-tudcx-2-38479@buchen.inwole.de
DTSTART:20230623T150000Z
DTEND:20230623T180000Z
DESCRIPTION:Tickets: https://buchen.inwole.de/werkhauspotsdam/tudcx-2/38479
 /\nVeranstalter: Werkhaus Potsdam
DTSTAMP:20260422T042631Z
LOCATION:inwole e.V.\, Rudolf-Breitscheid-Straße 164\, 14482 Potsdam\, Hol
 zwerkstatt
SUMMARY:Maschinen-Einführungskurs
END:VEVENT
END:VCALENDAR
