BEGIN:VCALENDAR
VERSION:2.0
PRODID:-//pretix//inwole_e.V._pretix//
BEGIN:VEVENT
UID:pretix-werkhauspotsdam-tudcx-2-38359@buchen.inwole.de
DTSTART:20221104T150000Z
DTEND:20221104T180000Z
DESCRIPTION:Tickets: https://buchen.inwole.de/werkhauspotsdam/tudcx-2/38359
 /\nVeranstalter: Werkhaus Potsdam
DTSTAMP:20260422T172438Z
LOCATION:inwole e.V.\, Rudolf-Breitscheid-Straße 164\, 14482 Potsdam\, Hol
 zwerkstatt
SUMMARY:Maschinen-Einführungskurs
END:VEVENT
END:VCALENDAR
