BEGIN:VCALENDAR
VERSION:2.0
PRODID:-//pretix//inwole_e.V._pretix//
BEGIN:VEVENT
UID:pretix-werkhauspotsdam-tsn9d-2-0@buchen.inwole.de
DTSTART:20210421T160000Z
DTEND:20210421T200000Z
DESCRIPTION:Tickets: https://buchen.inwole.de/werkhauspotsdam/tsn9d-2/\nEin
 lass: 21.04.2021 15:45\nVeranstalter: Werkhaus Potsdam
DTSTAMP:20260420T015457Z
LOCATION:Werkhaus Potsdam\, Rudolf-Breitscheid-Straße 164\, 14482 Potsdam
SUMMARY:Upcycling-Workshop: Beutel / Tasche / Turnbeutelruckack uvm.
END:VEVENT
END:VCALENDAR
