BEGIN:VCALENDAR
VERSION:2.0
PRODID:-//pretix//inwole_e.V._pretix//
BEGIN:VEVENT
UID:pretix-werkhauspotsdam-tkrqh-0@buchen.inwole.de
DTSTART:20210726T090000Z
DTEND:20210730T160000Z
DESCRIPTION:Tickets: https://buchen.inwole.de/werkhauspotsdam/tkrqh/\nEinla
 ss: 26.07.2021 09:00\nVeranstalter: Werkhaus Potsdam
DTSTAMP:20260420T015425Z
LOCATION:Werkhaus Potsdam\, Rudolf-Breitscheid-Straße 164\, 14482 Potsdam
SUMMARY:Zirkuswoche - Sommercamp
END:VEVENT
END:VCALENDAR
