BEGIN:VCALENDAR
VERSION:2.0
PRODID:-//pretix//inwole_e.V._pretix//
BEGIN:VEVENT
UID:pretix-werkhauspotsdam-sjh8f-0@buchen.inwole.de
DTSTART:20220119T160000Z
DTEND:20220119T200000Z
DESCRIPTION:Tickets: https://buchen.inwole.de/werkhauspotsdam/sjh8f/\nEinla
 ss: 19.10.2021 15:45\nVeranstalter: Werkhaus Potsdam
DTSTAMP:20260419T234227Z
LOCATION:Werkhaus Potsdam\, Rudolf-Breitscheid-Straße 164\, 14482 Potsdam
SUMMARY:Upcycling-Workshop: Beutel / Tasche / Turnbeutelrucksack
END:VEVENT
END:VCALENDAR
