BEGIN:VCALENDAR
VERSION:2.0
PRODID:-//pretix//inwole_e.V._pretix//
BEGIN:VEVENT
UID:pretix-werkhauspotsdam-r9hdt-39786@buchen.inwole.de
DTSTART:20241016T150000Z
DTEND:20241016T200000Z
DESCRIPTION:Tickets: https://buchen.inwole.de/werkhauspotsdam/r9hdt/39786/\
 nVeranstalter: Werkhaus Potsdam
DTSTAMP:20260420T213640Z
LOCATION:inwole e.V.\, Rudolf-Breitscheid-Straße 164\, 14482 Potsdam\, Fah
 rradwerkstatt
SUMMARY:Offene Fahrradwerkstatt für alle
END:VEVENT
END:VCALENDAR
