BEGIN:VCALENDAR
VERSION:2.0
PRODID:-//pretix//inwole_e.V._pretix//
BEGIN:VEVENT
UID:pretix-werkhauspotsdam-p8pg3-3-0@buchen.inwole.de
DTSTART:20211105T170000Z
DTEND:20211107T130000Z
DESCRIPTION:Tickets: https://buchen.inwole.de/werkhauspotsdam/p8pg3-3/\nEin
 lass: 05.11.2021 17:00\nVeranstalter: Werkhaus Potsdam
DTSTAMP:20260420T015456Z
SUMMARY:Was heißt hier schön?! Ein Kreativ-Workshop
END:VEVENT
END:VCALENDAR
