BEGIN:VCALENDAR
VERSION:2.0
PRODID:-//pretix//inwole_e.V._pretix//
BEGIN:VEVENT
UID:pretix-werkhauspotsdam-p8pg3-2-37599@buchen.inwole.de
DTSTART:20220218T170000Z
DTEND:20220220T130000Z
DESCRIPTION:Tickets: https://buchen.inwole.de/werkhauspotsdam/p8pg3-2/37599
 /\nEinlass: 18.02.2022 16:45\nVeranstalter: Werkhaus Potsdam
DTSTAMP:20260423T084845Z
LOCATION:inwole e.V.\, Rudolf-Breitscheid-Straße 164\, 14482 Potsdam\, Ker
 amikwerkstatt
SUMMARY:Was heißt hier schön?! Ein Kreativ-Workshop
END:VEVENT
END:VCALENDAR
