BEGIN:VCALENDAR
VERSION:2.0
PRODID:-//pretix//inwole_e.V._pretix//
BEGIN:VEVENT
UID:pretix-werkhauspotsdam-nan88-0@buchen.inwole.de
DTSTART:20210922T160000Z
DTEND:20210922T200000Z
DESCRIPTION:Tickets: https://buchen.inwole.de/werkhauspotsdam/nan88/\nEinla
 ss: 22.09.2021 15:45\nVeranstalter: Werkhaus Potsdam
DTSTAMP:20260420T015349Z
LOCATION:Werkhaus Potsdam\, Rudolf-Breitscheid-Straße 164\, 14482 Potsdam
SUMMARY:Badeponcho nähen
END:VEVENT
END:VCALENDAR
