BEGIN:VCALENDAR
VERSION:2.0
PRODID:-//pretix//inwole_e.V._pretix//
BEGIN:VEVENT
UID:pretix-werkhauspotsdam-n8w7k-3-0@buchen.inwole.de
DTSTART:20211006T160000Z
DTEND:20211006T200000Z
DESCRIPTION:Tickets: https://buchen.inwole.de/werkhauspotsdam/n8w7k-3/\nEin
 lass: 07.07.2021 15:45\nVeranstalter: Werkhaus Potsdam
DTSTAMP:20260420T015656Z
LOCATION:Werkhaus Potsdam\, Rudolf-Breitscheid-Straße 164\, 14482 Potsdam
SUMMARY:Einführung in die Nähmaschine
END:VEVENT
END:VCALENDAR
