BEGIN:VCALENDAR
VERSION:2.0
PRODID:-//pretix//inwole_e.V._pretix//
BEGIN:VEVENT
UID:pretix-werkhauspotsdam-mrrvl-2-0@buchen.inwole.de
DTSTART:20211117T160000Z
DTEND:20211117T200000Z
DESCRIPTION:Tickets: https://buchen.inwole.de/werkhauspotsdam/mrrvl-2/\nEin
 lass: 17.11.2021 15:45\nVeranstalter: Werkhaus Potsdam
DTSTAMP:20260420T015621Z
LOCATION:Werkhaus Potsdam\, Rudolf-Breitscheid-Straße 164\, 14482 Potsdam
SUMMARY:Kapuzenjacke nähen
END:VEVENT
END:VCALENDAR
