BEGIN:VCALENDAR
VERSION:2.0
PRODID:-//pretix//inwole_e.V._pretix//
BEGIN:VEVENT
UID:pretix-werkhauspotsdam-hvtu8-0@buchen.inwole.de
DTSTART:20210705T090000Z
DTEND:20210707T150000Z
DESCRIPTION:Tickets: https://buchen.inwole.de/werkhauspotsdam/hvtu8/\nEinla
 ss: 05.07.2021 09:00\nVeranstalter: Werkhaus Potsdam
DTSTAMP:20260420T015425Z
LOCATION:Werkhaus Potsdam
SUMMARY:Upcycling Workshop für Kinder & Jugendliche (3 Tage)
END:VEVENT
END:VCALENDAR
