BEGIN:VCALENDAR
VERSION:2.0
PRODID:-//pretix//inwole_e.V._pretix//
BEGIN:VEVENT
UID:pretix-werkhauspotsdam-fcdr7-38838@buchen.inwole.de
DTSTART:20230509T180000Z
DTEND:20230509T200000Z
DESCRIPTION:Tickets: https://buchen.inwole.de/werkhauspotsdam/fcdr7/38838/\
 nVeranstalter: Werkhaus Potsdam
DTSTAMP:20260422T062151Z
LOCATION:inwole e.V.\, Rudolf-Breitscheid-Straße 164\, 14482 Potsdam\, Hol
 zwerkstatt
SUMMARY:Grundkurs Holzbearbeitung
END:VEVENT
END:VCALENDAR
