BEGIN:VCALENDAR
VERSION:2.0
PRODID:-//pretix//inwole_e.V._pretix//
BEGIN:VEVENT
UID:pretix-werkhauspotsdam-fcdr7-38821@buchen.inwole.de
DTSTART:20230110T180000Z
DTEND:20230110T200000Z
DESCRIPTION:Tickets: https://buchen.inwole.de/werkhauspotsdam/fcdr7/38821/\
 nVeranstalter: Werkhaus Potsdam
DTSTAMP:20260422T135123Z
LOCATION:inwole e.V.\, Rudolf-Breitscheid-Straße 164\, 14482 Potsdam\, Hol
 zwerkstatt
SUMMARY:Grundkurs Holzbearbeitung
END:VEVENT
END:VCALENDAR
