BEGIN:VCALENDAR
VERSION:2.0
PRODID:-//pretix//inwole_e.V._pretix//
BEGIN:VEVENT
UID:pretix-werkhauspotsdam-fcdr7-3-38440@buchen.inwole.de
DTSTART:20221212T180000Z
DTEND:20221212T210000Z
DESCRIPTION:Tickets: https://buchen.inwole.de/werkhauspotsdam/fcdr7-3/38440
 /\nVeranstalter: Werkhaus Potsdam
DTSTAMP:20260422T153300Z
LOCATION:inwole e.V.\, Rudolf-Breitscheid-Straße 164\, 14482 Potsdam\, Hol
 zwerkstatt
SUMMARY:Einfach Schnitzen lernen
END:VEVENT
END:VCALENDAR
