BEGIN:VCALENDAR
VERSION:2.0
PRODID:-//pretix//inwole_e.V._pretix//
BEGIN:VEVENT
UID:pretix-werkhauspotsdam-fcdr7-3-38437@buchen.inwole.de
DTSTART:20221121T180000Z
DTEND:20221121T210000Z
DESCRIPTION:Tickets: https://buchen.inwole.de/werkhauspotsdam/fcdr7-3/38437
 /\nVeranstalter: Werkhaus Potsdam
DTSTAMP:20260422T185939Z
LOCATION:inwole e.V.\, Rudolf-Breitscheid-Straße 164\, 14482 Potsdam\, Hol
 zwerkstatt
SUMMARY:Einfach Schnitzen lernen
END:VEVENT
END:VCALENDAR
