BEGIN:VCALENDAR
VERSION:2.0
PRODID:-//pretix//inwole_e.V._pretix//
BEGIN:VEVENT
UID:pretix-werkhauspotsdam-fcdr7-2-39691@buchen.inwole.de
DTSTART:20241219T160000Z
DTEND:20241219T180000Z
DESCRIPTION:Tickets: https://buchen.inwole.de/werkhauspotsdam/fcdr7-2/39691
 /\nVeranstalter: Werkhaus Potsdam
DTSTAMP:20260420T182540Z
LOCATION:inwole e.V.\, Rudolf-Breitscheid-Straße 164\, 14482 Potsdam\, Hol
 zwerkstatt
SUMMARY:Grundkurs Holzbearbeitung
END:VEVENT
END:VCALENDAR
