BEGIN:VCALENDAR
VERSION:2.0
PRODID:-//pretix//inwole_e.V._pretix//
BEGIN:VEVENT
UID:pretix-werkhauspotsdam-fcdr7-2-39684@buchen.inwole.de
DTSTART:20241031T160000Z
DTEND:20241031T180000Z
DESCRIPTION:Tickets: https://buchen.inwole.de/werkhauspotsdam/fcdr7-2/39684
 /\nVeranstalter: Werkhaus Potsdam
DTSTAMP:20260420T212947Z
LOCATION:inwole e.V.\, Rudolf-Breitscheid-Straße 164\, 14482 Potsdam\, Hol
 zwerkstatt
SUMMARY:Grundkurs Holzbearbeitung
END:VEVENT
END:VCALENDAR
