BEGIN:VCALENDAR
VERSION:2.0
PRODID:-//pretix//inwole_e.V._pretix//
BEGIN:VEVENT
UID:pretix-werkhauspotsdam-fcdr7-2-38563@buchen.inwole.de
DTSTART:20231123T160000Z
DTEND:20231123T180000Z
DESCRIPTION:Tickets: https://buchen.inwole.de/werkhauspotsdam/fcdr7-2/38563
 /\nVeranstalter: Werkhaus Potsdam
DTSTAMP:20260421T212052Z
LOCATION:inwole e.V.\, Rudolf-Breitscheid-Straße 164\, 14482 Potsdam\, Hol
 zwerkstatt
SUMMARY:Grundkurs Holzbearbeitung
END:VEVENT
END:VCALENDAR
