BEGIN:VCALENDAR
VERSION:2.0
PRODID:-//pretix//inwole_e.V._pretix//
BEGIN:VEVENT
UID:pretix-werkhauspotsdam-ervdn-0@buchen.inwole.de
DTSTART:20220112T160000Z
DTEND:20220112T200000Z
DESCRIPTION:Tickets: https://buchen.inwole.de/werkhauspotsdam/ervdn/\nEinla
 ss: 12.10.2021 15:45\nVeranstalter: Werkhaus Potsdam
DTSTAMP:20260420T015329Z
LOCATION:Werkhaus Potsdam\, Rudolf-Breitscheid-Straße 164\, 14482 Potsdam
SUMMARY:Einführung in die Nähmaschine
END:VEVENT
END:VCALENDAR
