BEGIN:VCALENDAR
VERSION:2.0
PRODID:-//pretix//inwole_e.V._pretix//
BEGIN:VEVENT
UID:pretix-werkhauspotsdam-eppkn-38051@buchen.inwole.de
DTSTART:20220304T160000Z
DTEND:20220304T200000Z
DESCRIPTION:Tickets: https://buchen.inwole.de/werkhauspotsdam/eppkn/38051/\
 nVeranstalter: Werkhaus Potsdam
DTSTAMP:20260423T071905Z
LOCATION:inwole e.V.\, Rudolf-Breitscheid-Straße 164\, 14482 Potsdam\, Fah
 rradwerkstatt
SUMMARY:Offene FLINTA* Fahrradwerkstatt
END:VEVENT
END:VCALENDAR
