BEGIN:VCALENDAR
VERSION:2.0
PRODID:-//pretix//inwole_e.V._pretix//
BEGIN:VEVENT
UID:pretix-werkhauspotsdam-c78ug-38432@buchen.inwole.de
DTSTART:20221205T153000Z
DTEND:20221205T170000Z
DESCRIPTION:Tickets: https://buchen.inwole.de/werkhauspotsdam/c78ug/38432/\
 nVeranstalter: Werkhaus Potsdam
DTSTAMP:20260422T170502Z
LOCATION:inwole e.V.\, Rudolf-Breitscheid-Straße 164\, 14482 Potsdam\, Hol
 zwerkstatt
SUMMARY:Holz AufMÖBELn
END:VEVENT
END:VCALENDAR
