BEGIN:VCALENDAR
VERSION:2.0
PRODID:-//pretix//inwole_e.V._pretix//
BEGIN:VTIMEZONE
TZID:Europe/Berlin
BEGIN:STANDARD
DTSTART:20001029T030000
RRULE:FREQ=YEARLY;BYDAY=-1SU;BYMONTH=10
TZNAME:CET
TZOFFSETFROM:+0200
TZOFFSETTO:+0100
END:STANDARD
BEGIN:DAYLIGHT
DTSTART:20000326T020000
RRULE:FREQ=YEARLY;BYDAY=-1SU;BYMONTH=3
TZNAME:CEST
TZOFFSETFROM:+0100
TZOFFSETTO:+0200
END:DAYLIGHT
END:VTIMEZONE
BEGIN:VEVENT
UID:pretix-werkhauspotsdam-asewv-0@buchen.inwole.de
DTSTART;TZID=Europe/Berlin:20241216T140000
DTEND;TZID=Europe/Berlin:20241216T170000
DESCRIPTION:Tickets: https://buchen.inwole.de/werkhauspotsdam/asewv/\nEinla
 ss: 16.12.2024 12:00\nVeranstalter: Werkhaus Potsdam
DTSTAMP:20260419T182741Z
LOCATION:Werkhaus Potsdam\, Rudolf-Breitscheid-Straße 164\, 14482 Potsdam
SUMMARY:Upcycling Drechseln mit alten Skateboards
END:VEVENT
END:VCALENDAR
