BEGIN:VCALENDAR
VERSION:2.0
PRODID:-//pretix//inwole_e.V._pretix//
BEGIN:VEVENT
UID:pretix-werkhauspotsdam-adpcm-38447@buchen.inwole.de
DTSTART:20230219T090000Z
DTEND:20230219T170000Z
DESCRIPTION:Tickets: https://buchen.inwole.de/werkhauspotsdam/adpcm/38447/\
 nVeranstalter: Werkhaus Potsdam
DTSTAMP:20260422T120611Z
LOCATION:inwole e.V.\, Rudolf-Breitscheid-Straße 164\, 14482 Potsdam\, Hol
 zwerkstatt
SUMMARY:Bau dir dein Padel
END:VEVENT
END:VCALENDAR
