BEGIN:VCALENDAR
VERSION:2.0
PRODID:-//pretix//inwole_e.V._pretix//
BEGIN:VEVENT
UID:pretix-werkhauspotsdam-adpcm-38445@buchen.inwole.de
DTSTART:20221211T090000Z
DTEND:20221211T170000Z
DESCRIPTION:Tickets: https://buchen.inwole.de/werkhauspotsdam/adpcm/38445/\
 nVeranstalter: Werkhaus Potsdam
DTSTAMP:20260422T170501Z
LOCATION:inwole e.V.\, Rudolf-Breitscheid-Straße 164\, 14482 Potsdam\, Hol
 zwerkstatt
SUMMARY:Bau dir dein Padel
END:VEVENT
END:VCALENDAR
