BEGIN:VCALENDAR
VERSION:2.0
PRODID:-//pretix//inwole_e.V._pretix//
BEGIN:VEVENT
UID:pretix-werkhauspotsdam-9trpf-2-4-39286@buchen.inwole.de
DTSTART:20230913T160000Z
DTEND:20230913T200000Z
DESCRIPTION:Tickets: https://buchen.inwole.de/werkhauspotsdam/9trpf-2-4/392
 86/\nVeranstalter: Werkhaus Potsdam
DTSTAMP:20260421T230528Z
LOCATION:Inwole e.V. / Werkhaus Potsdam\, Rudolf-Breitscheid-Straße 164\, 
 14482 Potsdam\, Textilwerkstatt
SUMMARY:Einführung in die Nähmaschine
END:VEVENT
END:VCALENDAR
