BEGIN:VCALENDAR
VERSION:2.0
PRODID:-//pretix//inwole_e.V._pretix//
BEGIN:VEVENT
UID:pretix-werkhauspotsdam-9trpf-2-4-38285@buchen.inwole.de
DTSTART:20221005T160000Z
DTEND:20221005T190000Z
DESCRIPTION:Tickets: https://buchen.inwole.de/werkhauspotsdam/9trpf-2-4/382
 85/\nEinlass: 05.10.2022 16:00\nVeranstalter: Werkhaus Potsdam
DTSTAMP:20260422T190117Z
LOCATION:Inwole e.V. / Werkhaus Potsdam\, Rudolf-Breitscheid-Straße 164\, 
 14482 Potsdam\, Textilwerkstatt
SUMMARY:Einführung in die Nähmaschine
END:VEVENT
END:VCALENDAR
