BEGIN:VCALENDAR
VERSION:2.0
PRODID:-//pretix//inwole_e.V._pretix//
BEGIN:VEVENT
UID:pretix-werkhauspotsdam-8lvkd-2-0@buchen.inwole.de
DTSTART:20211127T110000Z
DTEND:20211127T130000Z
DESCRIPTION:Tickets: https://buchen.inwole.de/werkhauspotsdam/8lvkd-2/\nEin
 lass: 27.11.2021 10:45\nVeranstalter: Werkhaus Potsdam
DTSTAMP:20260420T015456Z
LOCATION:Werkhaus Potsdam
SUMMARY:Feste Kosemtik: Shampoo-/ Lotion-Bars und Co
END:VEVENT
END:VCALENDAR
