BEGIN:VCALENDAR
VERSION:2.0
PRODID:-//pretix//inwole_e.V._pretix//
BEGIN:VEVENT
UID:pretix-werkhauspotsdam-8absy-37918@buchen.inwole.de
DTSTART:20221021T150000Z
DTEND:20221021T200000Z
DESCRIPTION:Tickets: https://buchen.inwole.de/werkhauspotsdam/8absy/37918/\
 nVeranstalter: Werkhaus Potsdam
DTSTAMP:20260422T190117Z
LOCATION:Inwole e.V.\, Rudolf-Breitscheid-Straße 164\, 14482 Potsdam\, Hol
 zwerkstatt
SUMMARY:Offene Textilwerkstatt
END:VEVENT
END:VCALENDAR
