BEGIN:VCALENDAR
VERSION:2.0
PRODID:-//pretix//inwole_e.V._pretix//
BEGIN:VEVENT
UID:pretix-werkhauspotsdam-8absy-37907@buchen.inwole.de
DTSTART:20220805T150000Z
DTEND:20220805T200000Z
DESCRIPTION:Tickets: https://buchen.inwole.de/werkhauspotsdam/8absy/37907/\
 nVeranstalter: Werkhaus Potsdam
DTSTAMP:20260422T224416Z
LOCATION:Inwole e.V.\, Rudolf-Breitscheid-Straße 164\, 14482 Potsdam\, Hol
 zwerkstatt
SUMMARY:Offene Textilwerkstatt
END:VEVENT
END:VCALENDAR
