BEGIN:VCALENDAR
VERSION:2.0
PRODID:-//pretix//inwole_e.V._pretix//
BEGIN:VEVENT
UID:pretix-werkhauspotsdam-8absy-37844@buchen.inwole.de
DTSTART:20220331T160000Z
DTEND:20220331T210000Z
DESCRIPTION:Tickets: https://buchen.inwole.de/werkhauspotsdam/8absy/37844/\
 nVeranstalter: Werkhaus Potsdam
DTSTAMP:20260423T084905Z
LOCATION:Inwole e.V.\, Rudolf-Breitscheid-Straße 164\, 14482 Potsdam\, Hol
 zwerkstatt
SUMMARY:Offene Textilwerkstatt
END:VEVENT
END:VCALENDAR
