BEGIN:VCALENDAR
VERSION:2.0
PRODID:-//pretix//inwole_e.V._pretix//
BEGIN:VTIMEZONE
TZID:Europe/Berlin
BEGIN:STANDARD
DTSTART:20001029T030000
RRULE:FREQ=YEARLY;BYDAY=-1SU;BYMONTH=10
TZNAME:CET
TZOFFSETFROM:+0200
TZOFFSETTO:+0100
END:STANDARD
BEGIN:DAYLIGHT
DTSTART:20000326T020000
RRULE:FREQ=YEARLY;BYDAY=-1SU;BYMONTH=3
TZNAME:CEST
TZOFFSETFROM:+0100
TZOFFSETTO:+0200
END:DAYLIGHT
END:VTIMEZONE
BEGIN:VEVENT
UID:pretix-werkhauspotsdam-7daut-2-0@buchen.inwole.de
DTSTART;TZID=Europe/Berlin:20241205T160000
DTEND;TZID=Europe/Berlin:20241205T180000
DESCRIPTION:Tickets: https://buchen.inwole.de/werkhauspotsdam/7daut-2/\nEin
 lass: 05.12.2024 16:00\nVeranstalter: Werkhaus Potsdam
DTSTAMP:20260419T182758Z
LOCATION:Projekthaus Potsdam\, Rudolf- Breitscheid-Straße 164\, 14482 Pots
 dam Babelsberg
SUMMARY:Winterliche Laubsägearbeiten
END:VEVENT
END:VCALENDAR
