BEGIN:VCALENDAR
VERSION:2.0
PRODID:-//pretix//inwole_e.V._pretix//
BEGIN:VTIMEZONE
TZID:Europe/Berlin
BEGIN:STANDARD
DTSTART:20001029T030000
RRULE:FREQ=YEARLY;BYDAY=-1SU;BYMONTH=10
TZNAME:CET
TZOFFSETFROM:+0200
TZOFFSETTO:+0100
END:STANDARD
BEGIN:DAYLIGHT
DTSTART:20000326T020000
RRULE:FREQ=YEARLY;BYDAY=-1SU;BYMONTH=3
TZNAME:CEST
TZOFFSETFROM:+0100
TZOFFSETTO:+0200
END:DAYLIGHT
END:VTIMEZONE
BEGIN:VEVENT
UID:pretix-werkhauspotsdam-3wwb7-0@buchen.inwole.de
DTSTART;TZID=Europe/Berlin:20220316T160000
DTEND;TZID=Europe/Berlin:20220316T200000
DESCRIPTION:Tickets: https://buchen.inwole.de/werkhauspotsdam/3wwb7/\nEinla
 ss: 16.03.2022 15:45\nVeranstalter: Werkhaus Potsdam
DTSTAMP:20260419T234212Z
LOCATION:Werkhaus Potsdam\, Rudolf-Breitscheid-Straße 164\, 14482 Potsdam
SUMMARY:Sitzkissen und Kissen selbst nähen
END:VEVENT
END:VCALENDAR
