BEGIN:VCALENDAR
VERSION:2.0
PRODID:-//pretix//inwole_e.V._pretix//
BEGIN:VEVENT
UID:pretix-bildung-bikeborders2025-0@buchen.inwole.de
DTSTART:20250722T000000Z
DTEND:20250902T000000Z
DESCRIPTION:Tickets: https://buchen.inwole.de/bildung/bikeborders2025/\nAdm
 ission: 2025-06-24 23:45\nOrganizer: Inwole Bildungsstätte
DTSTAMP:20260419T190114Z
LOCATION:France - Germany
SUMMARY:Participation Ticket – Biking Borders 2025
END:VEVENT
END:VCALENDAR
